BEGIN:VCALENDAR
VERSION:2.0
PRODID:-//Sabre//Sabre VObject 4.5.8//EN
CALSCALE:GREGORIAN
BEGIN:VEVENT
UID:sabre-vobject-eda769f5-2188-4967-a91f-113ecebde91d
DTSTAMP:20260424T023410Z
SUMMARY:China: Von Luoyang über Xian nach Guilin
DESCRIPTION:https://keb-stadt-augsburg.de/veranstaltungen/china-von-luoyang
 -ueber-xian-nach-guilin_id328153
DTSTART;TZID=Europe/Berlin:20260521T140000
LOCATION:Pfarrsaal\, Zwölf-Apostel-Platz 1\, 86163 Augsburg
END:VEVENT
END:VCALENDAR
