BEGIN:VCALENDAR
VERSION:2.0
PRODID:-//Sabre//Sabre VObject 4.5.8//EN
CALSCALE:GREGORIAN
BEGIN:VEVENT
UID:sabre-vobject-642cf175-7a2d-40cd-83dc-d61f83d37da8
DTSTAMP:20260425T023033Z
SUMMARY:Namibia
DESCRIPTION:https://keb-stadt-augsburg.de/veranstaltungen/namibia_id328149
DTSTART;TZID=Europe/Berlin:20260507T190000
LOCATION:Pfarrheim\, Franz-Kobinger-Straße 10\, 86157 Augsburg
END:VEVENT
END:VCALENDAR
