BEGIN:VCALENDAR
VERSION:2.0
PRODID:-//Sabre//Sabre VObject 4.5.8//EN
CALSCALE:GREGORIAN
BEGIN:VEVENT
UID:sabre-vobject-6dd4bb04-4685-4162-a9d0-c875c7185fb5
DTSTAMP:20260425T030516Z
SUMMARY:Literatur-Gesprächskreis - Das rote Sofa
DESCRIPTION:https://keb-stadt-augsburg.de/veranstaltungen/literatur-gesprae
 chskreis-das-rote-sofa_id328146
DTSTART;TZID=Europe/Berlin:20260508T191500
LOCATION:Bücherei Heilig Geist\, Grüntenstraße 19\, 86163 Augsburg
END:VEVENT
END:VCALENDAR
