BEGIN:VCALENDAR
VERSION:2.0
PRODID:-//Sabre//Sabre VObject 4.5.8//EN
CALSCALE:GREGORIAN
BEGIN:VEVENT
UID:sabre-vobject-a9d02a26-4562-4887-91bf-b1fda9e16b83
DTSTAMP:20260424T060431Z
SUMMARY:Namibia
DESCRIPTION:https://keb-stadt-augsburg.de/veranstaltungen/namibia_id328145
DTSTART;TZID=Europe/Berlin:20260513T143000
LOCATION:Pfarrheim\, Salzmannstraße 8\, 86163 Augsburg
END:VEVENT
END:VCALENDAR
