BEGIN:VCALENDAR
VERSION:2.0
PRODID:-//Sabre//Sabre VObject 4.5.8//EN
CALSCALE:GREGORIAN
BEGIN:VEVENT
UID:sabre-vobject-101e0c80-eb53-4786-922d-ce5d009ae611
DTSTAMP:20260424T023511Z
SUMMARY:Qi Gong
DESCRIPTION:https://keb-stadt-augsburg.de/veranstaltungen/qi-gong_id328143
DTSTART;TZID=Europe/Berlin:20260521T193000
LOCATION:Pfarrheim\, Salzmannstraße 8\, 86163 Augsburg
END:VEVENT
END:VCALENDAR
