BEGIN:VCALENDAR
VERSION:2.0
PRODID:-//Sabre//Sabre VObject 4.5.8//EN
CALSCALE:GREGORIAN
BEGIN:VEVENT
UID:sabre-vobject-a155953e-1397-42fd-8d9d-083633a64b5e
DTSTAMP:20260425T004132Z
SUMMARY:Bibel lesen und verstehen
DESCRIPTION:https://keb-stadt-augsburg.de/veranstaltungen/bibel-lesen-und-v
 erstehen_id328142
DTSTART;TZID=Europe/Berlin:20260505T000000
LOCATION:Pfarrheim\, Kolbergstraße 1\, 86167 Augsburg
END:VEVENT
END:VCALENDAR
