BEGIN:VCALENDAR
VERSION:2.0
PRODID:-//Sabre//Sabre VObject 4.5.8//EN
CALSCALE:GREGORIAN
BEGIN:VEVENT
UID:sabre-vobject-53fd0d52-216d-45f9-84c7-e9ba76077cb7
DTSTAMP:20260426T003217Z
SUMMARY:„Jemand muss dich kommen sehen...“
DESCRIPTION:https://keb-stadt-augsburg.de/veranstaltungen/jemand-muss-dich-
 kommen-sehen_id318620
DTSTART;TZID=Europe/Berlin:20260612T150000
LOCATION:Haus Sankt Ulrich\, Kappelberg 1\, 86150 Augsburg
END:VEVENT
END:VCALENDAR
