BEGIN:VCALENDAR
VERSION:2.0
PRODID:-//Sabre//Sabre VObject 4.5.8//EN
CALSCALE:GREGORIAN
BEGIN:VEVENT
UID:sabre-vobject-bee6995e-3dbf-47c1-bc92-86d51c3ee1c2
DTSTAMP:20260426T003406Z
SUMMARY:Heimliche Heldinnen und Helden
DESCRIPTION:https://keb-stadt-augsburg.de/veranstaltungen/heimliche-heldinn
 en-und-helden_id318615
DTSTART;TZID=Europe/Berlin:20260610T193000
LOCATION:Haus Sankt Ulrich\, Kappelberg 1\, 86150 Augsburg
END:VEVENT
END:VCALENDAR
