BEGIN:VCALENDAR
VERSION:2.0
PRODID:-//Sabre//Sabre VObject 4.5.8//EN
CALSCALE:GREGORIAN
BEGIN:VEVENT
UID:sabre-vobject-b4541098-773e-47bb-aa82-892e641daa4c
DTSTAMP:20260421T225843Z
SUMMARY:Bodyworkout
DESCRIPTION:https://keb-stadt-augsburg.de/veranstaltungen/bodyworkout_id314
 990
DTSTART;TZID=Europe/Berlin:20260901T190000
DTEND;TZID=Europe/Berlin:20260901T200000
LOCATION:Begegnungszentrum St. Franziskus\, Martin-Gomm-Weg 2\, 86169 Augsb
 urg
END:VEVENT
END:VCALENDAR
