BEGIN:VCALENDAR
VERSION:2.0
PRODID:-//Sabre//Sabre VObject 4.5.8//EN
CALSCALE:GREGORIAN
BEGIN:VEVENT
UID:sabre-vobject-4824204c-4ff4-4133-9a72-d28f56b19223
DTSTAMP:20260421T183237Z
SUMMARY:Bodyworkout
DESCRIPTION:https://keb-stadt-augsburg.de/veranstaltungen/bodyworkout_id314
 988
DTSTART;TZID=Europe/Berlin:20260818T190000
DTEND;TZID=Europe/Berlin:20260818T200000
LOCATION:Begegnungszentrum St. Franziskus\, Martin-Gomm-Weg 2\, 86169 Augsb
 urg
END:VEVENT
END:VCALENDAR
