BEGIN:VCALENDAR
VERSION:2.0
PRODID:-//Sabre//Sabre VObject 4.5.8//EN
CALSCALE:GREGORIAN
BEGIN:VEVENT
UID:sabre-vobject-4e0f1ce4-495e-4f5b-abc3-999799ca3845
DTSTAMP:20260421T104144Z
SUMMARY:Bodyworkout
DESCRIPTION:https://keb-stadt-augsburg.de/veranstaltungen/bodyworkout_id314
 985
DTSTART;TZID=Europe/Berlin:20260728T190000
DTEND;TZID=Europe/Berlin:20260728T200000
LOCATION:Begegnungszentrum St. Franziskus\, Martin-Gomm-Weg 2\, 86169 Augsb
 urg
END:VEVENT
END:VCALENDAR
