BEGIN:VCALENDAR
VERSION:2.0
PRODID:-//Sabre//Sabre VObject 4.5.8//EN
CALSCALE:GREGORIAN
BEGIN:VEVENT
UID:sabre-vobject-cb7eefe2-a67d-4b7a-8ec0-de8857952964
DTSTAMP:20260420T155404Z
SUMMARY:Bodyworkout
DESCRIPTION:https://keb-stadt-augsburg.de/veranstaltungen/bodyworkout_id314
 978
DTSTART;TZID=Europe/Berlin:20260609T190000
DTEND;TZID=Europe/Berlin:20260609T200000
LOCATION:Begegnungszentrum St. Franziskus\, Martin-Gomm-Weg 2\, 86169 Augsb
 urg
END:VEVENT
END:VCALENDAR
