BEGIN:VCALENDAR
VERSION:2.0
PRODID:-//Sabre//Sabre VObject 4.5.8//EN
CALSCALE:GREGORIAN
BEGIN:VEVENT
UID:sabre-vobject-a47f0189-f768-439d-83e2-dd65a244af96
DTSTAMP:20260420T024745Z
SUMMARY:Bodyworkout
DESCRIPTION:https://keb-stadt-augsburg.de/veranstaltungen/bodyworkout_id314
 973
DTSTART;TZID=Europe/Berlin:20260505T190000
DTEND;TZID=Europe/Berlin:20260505T200000
LOCATION:Begegnungszentrum St. Franziskus\, Martin-Gomm-Weg 2\, 86169 Augsb
 urg
END:VEVENT
END:VCALENDAR
