BEGIN:VCALENDAR
VERSION:2.0
PRODID:-//Sabre//Sabre VObject 4.5.8//EN
CALSCALE:GREGORIAN
BEGIN:VEVENT
UID:sabre-vobject-378f2ae4-4b49-47a7-bbad-d5ad0ba5129a
DTSTAMP:20260421T202105Z
SUMMARY:Ausgleichsgymnastik für Damen 50+
DESCRIPTION:https://keb-stadt-augsburg.de/veranstaltungen/ausgleichsgymnast
 ik-fuer-damen-50_id314891
DTSTART;TZID=Europe/Berlin:20260824T183000
DTEND;TZID=Europe/Berlin:20260824T200000
LOCATION:DJK-Sporthalle 3\, Zwölf-Apostel-Platz 3\, 86163 Augsburg
END:VEVENT
END:VCALENDAR
