BEGIN:VCALENDAR
VERSION:2.0
PRODID:-//Sabre//Sabre VObject 4.5.8//EN
CALSCALE:GREGORIAN
BEGIN:VEVENT
UID:sabre-vobject-4523902d-fafc-4646-9ae3-87cb82700027
DTSTAMP:20260421T121829Z
SUMMARY:Ausgleichsgymnastik für Damen 50+
DESCRIPTION:https://keb-stadt-augsburg.de/veranstaltungen/ausgleichsgymnast
 ik-fuer-damen-50_id314888
DTSTART;TZID=Europe/Berlin:20260803T183000
DTEND;TZID=Europe/Berlin:20260803T200000
LOCATION:DJK-Sporthalle 3\, Zwölf-Apostel-Platz 3\, 86163 Augsburg
END:VEVENT
END:VCALENDAR
