BEGIN:VCALENDAR
VERSION:2.0
PRODID:-//Sabre//Sabre VObject 4.5.8//EN
CALSCALE:GREGORIAN
BEGIN:VEVENT
UID:sabre-vobject-15d35845-0cc2-49bf-954b-442a9994c884
DTSTAMP:20260420T205339Z
SUMMARY:Ausgleichsgymnastik für Damen 50+
DESCRIPTION:https://keb-stadt-augsburg.de/veranstaltungen/ausgleichsgymnast
 ik-fuer-damen-50_id314882
DTSTART;TZID=Europe/Berlin:20260622T183000
DTEND;TZID=Europe/Berlin:20260622T200000
LOCATION:DJK-Sporthalle 3\, Zwölf-Apostel-Platz 3\, 86163 Augsburg
END:VEVENT
END:VCALENDAR
