BEGIN:VCALENDAR
VERSION:2.0
PRODID:-//Sabre//Sabre VObject 4.5.8//EN
CALSCALE:GREGORIAN
BEGIN:VEVENT
UID:sabre-vobject-1ad064a9-20d4-40a4-8169-664f0704bc63
DTSTAMP:20260420T160739Z
SUMMARY:Ausgleichsgymnastik für Damen 50+
DESCRIPTION:https://keb-stadt-augsburg.de/veranstaltungen/ausgleichsgymnast
 ik-fuer-damen-50_id314880
DTSTART;TZID=Europe/Berlin:20260608T183000
DTEND;TZID=Europe/Berlin:20260608T200000
LOCATION:DJK-Sporthalle 3\, Zwölf-Apostel-Platz 3\, 86163 Augsburg
END:VEVENT
END:VCALENDAR
