BEGIN:VCALENDAR
VERSION:2.0
PRODID:-//Sabre//Sabre VObject 4.5.8//EN
CALSCALE:GREGORIAN
BEGIN:VEVENT
UID:sabre-vobject-16e508a2-2c76-4b01-a8e0-0878df623bc2
DTSTAMP:20260419T234041Z
SUMMARY:Ausgleichsgymnastik für Damen 50+
DESCRIPTION:https://keb-stadt-augsburg.de/veranstaltungen/ausgleichsgymnast
 ik-fuer-damen-50_id314874
DTSTART;TZID=Europe/Berlin:20260427T183000
DTEND;TZID=Europe/Berlin:20260427T200000
LOCATION:DJK-Sporthalle 3\, Zwölf-Apostel-Platz 3\, 86163 Augsburg
END:VEVENT
END:VCALENDAR
