BEGIN:VCALENDAR
VERSION:2.0
PRODID:-//Sabre//Sabre VObject 4.5.8//EN
CALSCALE:GREGORIAN
BEGIN:VEVENT
UID:sabre-vobject-4e72b8a1-bbdc-4edb-8ea8-fcc354c9a05e
DTSTAMP:20260422T004639Z
SUMMARY:Ballett für Erwachsene
DESCRIPTION:https://keb-stadt-augsburg.de/veranstaltungen/ballett-fuer-erwa
 chsene_id314842
DTSTART;TZID=Europe/Berlin:20260904T171500
DTEND;TZID=Europe/Berlin:20260904T184500
LOCATION:DJK-Sporthalle 1\, Zwölf-Apostel-Platz 3\, 86163 Augsburg
END:VEVENT
END:VCALENDAR
