BEGIN:VCALENDAR
VERSION:2.0
PRODID:-//Sabre//Sabre VObject 4.5.8//EN
CALSCALE:GREGORIAN
BEGIN:VEVENT
UID:sabre-vobject-b45651aa-4ec2-487a-928c-b1047c5d962d
DTSTAMP:20260421T202750Z
SUMMARY:Ballett für Erwachsene
DESCRIPTION:https://keb-stadt-augsburg.de/veranstaltungen/ballett-fuer-erwa
 chsene_id314840
DTSTART;TZID=Europe/Berlin:20260821T171500
DTEND;TZID=Europe/Berlin:20260821T184500
LOCATION:DJK-Sporthalle 1\, Zwölf-Apostel-Platz 3\, 86163 Augsburg
END:VEVENT
END:VCALENDAR
