BEGIN:VCALENDAR
VERSION:2.0
PRODID:-//Sabre//Sabre VObject 4.5.8//EN
CALSCALE:GREGORIAN
BEGIN:VEVENT
UID:sabre-vobject-e6225f1d-0a07-4bad-844d-50a08c855d59
DTSTAMP:20260421T122002Z
SUMMARY:Ballett für Erwachsene
DESCRIPTION:https://keb-stadt-augsburg.de/veranstaltungen/ballett-fuer-erwa
 chsene_id314837
DTSTART;TZID=Europe/Berlin:20260731T171500
DTEND;TZID=Europe/Berlin:20260731T184500
LOCATION:DJK-Sporthalle 1\, Zwölf-Apostel-Platz 3\, 86163 Augsburg
END:VEVENT
END:VCALENDAR
