BEGIN:VCALENDAR
VERSION:2.0
PRODID:-//Sabre//Sabre VObject 4.5.8//EN
CALSCALE:GREGORIAN
BEGIN:VEVENT
UID:sabre-vobject-1f2c29b8-106e-4f52-ba37-b5790b765e1c
DTSTAMP:20260420T223226Z
SUMMARY:Ballett für Erwachsene
DESCRIPTION:https://keb-stadt-augsburg.de/veranstaltungen/ballett-fuer-erwa
 chsene_id314832
DTSTART;TZID=Europe/Berlin:20260626T171500
DTEND;TZID=Europe/Berlin:20260626T184500
LOCATION:DJK-Sporthalle 1\, Zwölf-Apostel-Platz 3\, 86163 Augsburg
END:VEVENT
END:VCALENDAR
