BEGIN:VCALENDAR
VERSION:2.0
PRODID:-//Sabre//Sabre VObject 4.5.8//EN
CALSCALE:GREGORIAN
BEGIN:VEVENT
UID:sabre-vobject-de9a422d-3656-4cdc-a82c-adc3e0c2c5ab
DTSTAMP:20260420T205609Z
SUMMARY:Ballett für Erwachsene
DESCRIPTION:https://keb-stadt-augsburg.de/veranstaltungen/ballett-fuer-erwa
 chsene_id314831
DTSTART;TZID=Europe/Berlin:20260619T171500
DTEND;TZID=Europe/Berlin:20260619T184500
LOCATION:DJK-Sporthalle 1\, Zwölf-Apostel-Platz 3\, 86163 Augsburg
END:VEVENT
END:VCALENDAR
