BEGIN:VCALENDAR
VERSION:2.0
PRODID:-//Sabre//Sabre VObject 4.5.8//EN
CALSCALE:GREGORIAN
BEGIN:VEVENT
UID:sabre-vobject-4fe6f7c6-9b62-4262-aced-7f8f1f259dd1
DTSTAMP:20260422T004611Z
SUMMARY:Judo - Erwachsene
DESCRIPTION:https://keb-stadt-augsburg.de/veranstaltungen/judo-erwachsene_i
 d314793
DTSTART;TZID=Europe/Berlin:20260904T181500
DTEND;TZID=Europe/Berlin:20260904T200000
LOCATION:DJK-Sporthalle 3\, Zwölf-Apostel-Platz 3\, 86163 Augsburg
END:VEVENT
END:VCALENDAR
