BEGIN:VCALENDAR
VERSION:2.0
PRODID:-//Sabre//Sabre VObject 4.5.8//EN
CALSCALE:GREGORIAN
BEGIN:VEVENT
UID:sabre-vobject-8f53c527-d4bc-4766-9a88-e3b321033ef7
DTSTAMP:20260421T201814Z
SUMMARY:Judo - Erwachsene
DESCRIPTION:https://keb-stadt-augsburg.de/veranstaltungen/judo-erwachsene_i
 d314791
DTSTART;TZID=Europe/Berlin:20260821T181500
DTEND;TZID=Europe/Berlin:20260821T200000
LOCATION:DJK-Sporthalle 3\, Zwölf-Apostel-Platz 3\, 86163 Augsburg
END:VEVENT
END:VCALENDAR
