BEGIN:VCALENDAR
VERSION:2.0
PRODID:-//Sabre//Sabre VObject 4.5.8//EN
CALSCALE:GREGORIAN
BEGIN:VEVENT
UID:sabre-vobject-fc2697da-7ef2-4b56-88bf-27ba8f4aa018
DTSTAMP:20260421T122102Z
SUMMARY:Judo - Erwachsene
DESCRIPTION:https://keb-stadt-augsburg.de/veranstaltungen/judo-erwachsene_i
 d314788
DTSTART;TZID=Europe/Berlin:20260731T181500
DTEND;TZID=Europe/Berlin:20260731T200000
LOCATION:DJK-Sporthalle 3\, Zwölf-Apostel-Platz 3\, 86163 Augsburg
END:VEVENT
END:VCALENDAR
