BEGIN:VCALENDAR
VERSION:2.0
PRODID:-//Sabre//Sabre VObject 4.5.8//EN
CALSCALE:GREGORIAN
BEGIN:VEVENT
UID:sabre-vobject-b78e24b0-624b-4774-a3a6-99208ce4bb54
DTSTAMP:20260421T071721Z
SUMMARY:Judo - Erwachsene
DESCRIPTION:https://keb-stadt-augsburg.de/veranstaltungen/judo-erwachsene_i
 d314786
DTSTART;TZID=Europe/Berlin:20260717T181500
DTEND;TZID=Europe/Berlin:20260717T200000
LOCATION:DJK-Sporthalle 3\, Zwölf-Apostel-Platz 3\, 86163 Augsburg
END:VEVENT
END:VCALENDAR
