BEGIN:VCALENDAR
VERSION:2.0
PRODID:-//Sabre//Sabre VObject 4.5.8//EN
CALSCALE:GREGORIAN
BEGIN:VEVENT
UID:sabre-vobject-eb0ec6fa-3f0a-472c-941d-853146c5948f
DTSTAMP:20260419T233845Z
SUMMARY:Judo - Erwachsene
DESCRIPTION:https://keb-stadt-augsburg.de/veranstaltungen/judo-erwachsene_i
 d314774
DTSTART;TZID=Europe/Berlin:20260424T181500
DTEND;TZID=Europe/Berlin:20260424T200000
LOCATION:DJK-Sporthalle 3\, Zwölf-Apostel-Platz 3\, 86163 Augsburg
END:VEVENT
END:VCALENDAR
