BEGIN:VCALENDAR
VERSION:2.0
PRODID:-//Sabre//Sabre VObject 4.5.8//EN
CALSCALE:GREGORIAN
BEGIN:VEVENT
UID:sabre-vobject-4ecd5d06-ee0f-4278-831f-08f8e07db74e
DTSTAMP:20260420T190622Z
SUMMARY:Gymnastik bei orthopädischen Problemen - Gruppe 3 und Osteoporose
DESCRIPTION:https://keb-stadt-augsburg.de/veranstaltungen/gymnastik-bei-ort
 hopaedischen-problemen-gruppe-3-und-osteoporose_id314581
DTSTART;TZID=Europe/Berlin:20260617T111500
DTEND;TZID=Europe/Berlin:20260617T121500
LOCATION:DJK-Sporthalle 3\, Zwölf-Apostel-Platz 3\, 86163 Augsburg
END:VEVENT
END:VCALENDAR
