BEGIN:VCALENDAR
VERSION:2.0
PRODID:-//Sabre//Sabre VObject 4.5.8//EN
CALSCALE:GREGORIAN
BEGIN:VEVENT
UID:sabre-vobject-9974cc8d-3b37-444f-99bf-1411180ac154
DTSTAMP:20260420T024846Z
SUMMARY:Gymnastik bei orthopädischen Problemen - Gruppe 3 und Osteoporose
DESCRIPTION:https://keb-stadt-augsburg.de/veranstaltungen/gymnastik-bei-ort
 hopaedischen-problemen-gruppe-3-und-osteoporose_id314575
DTSTART;TZID=Europe/Berlin:20260506T111500
DTEND;TZID=Europe/Berlin:20260506T121500
LOCATION:DJK-Sporthalle 3\, Zwölf-Apostel-Platz 3\, 86163 Augsburg
END:VEVENT
END:VCALENDAR
