BEGIN:VCALENDAR
VERSION:2.0
PRODID:-//Sabre//Sabre VObject 4.5.8//EN
CALSCALE:GREGORIAN
BEGIN:VEVENT
UID:sabre-vobject-1482ab36-637f-4348-bca1-ffe619350496
DTSTAMP:20260420T044509Z
SUMMARY:Gymnastik bei orthopädischen Problemen - Gruppe 3 und Osteoporose
DESCRIPTION:https://keb-stadt-augsburg.de/veranstaltungen/gymnastik-bei-ort
 hopaedischen-problemen-gruppe-3-und-osteoporose_id314573
DTSTART;TZID=Europe/Berlin:20260422T111500
DTEND;TZID=Europe/Berlin:20260422T121500
LOCATION:DJK-Sporthalle 3\, Zwölf-Apostel-Platz 3\, 86163 Augsburg
END:VEVENT
END:VCALENDAR
