BEGIN:VCALENDAR
VERSION:2.0
PRODID:-//Sabre//Sabre VObject 4.5.8//EN
CALSCALE:GREGORIAN
BEGIN:VEVENT
UID:sabre-vobject-5d76310a-1ec2-4d20-90e2-b8c252041036
DTSTAMP:20260423T122957Z
SUMMARY:Herzsportgruppe - Donnerstag-Gruppe III
DESCRIPTION:https://keb-stadt-augsburg.de/veranstaltungen/herzsportgruppe-d
 onnerstag-gruppe-iii_id314523
DTSTART;TZID=Europe/Berlin:20260423T091500
DTEND;TZID=Europe/Berlin:20260423T101500
LOCATION:DJK-Sporthalle 3\, Zwölf-Apostel-Platz 3\, 86163 Augsburg
END:VEVENT
END:VCALENDAR
