BEGIN:VCALENDAR
VERSION:2.0
PRODID:-//Sabre//Sabre VObject 4.5.8//EN
CALSCALE:GREGORIAN
BEGIN:VEVENT
UID:sabre-vobject-40aef69c-519b-4ae1-a132-9df0512261f3
DTSTAMP:20260421T230623Z
SUMMARY:Fitnessgymnastik und Aerobic
DESCRIPTION:https://keb-stadt-augsburg.de/veranstaltungen/fitnessgymnastik-
 und-aerobic_id311374
DTSTART;TZID=Europe/Berlin:20260901T200000
DTEND;TZID=Europe/Berlin:20260901T213000
LOCATION:Schulturnhalle Hochzoll Süd\, Höfatsstraße 27\, 86163 Augsburg
END:VEVENT
END:VCALENDAR
