BEGIN:VCALENDAR
VERSION:2.0
PRODID:-//Sabre//Sabre VObject 4.5.8//EN
CALSCALE:GREGORIAN
BEGIN:VEVENT
UID:sabre-vobject-fc1f173c-591e-4513-9668-a8a155a72784
DTSTAMP:20260421T154549Z
SUMMARY:Fitnessgymnastik und Aerobic
DESCRIPTION:https://keb-stadt-augsburg.de/veranstaltungen/fitnessgymnastik-
 und-aerobic_id311370
DTSTART;TZID=Europe/Berlin:20260804T200000
DTEND;TZID=Europe/Berlin:20260804T213000
LOCATION:Schulturnhalle Hochzoll Süd\, Höfatsstraße 27\, 86163 Augsburg
END:VEVENT
END:VCALENDAR
