BEGIN:VCALENDAR
VERSION:2.0
PRODID:-//Sabre//Sabre VObject 4.5.8//EN
CALSCALE:GREGORIAN
BEGIN:VEVENT
UID:sabre-vobject-783cea0f-96f5-4793-ac53-55b6c01364c0
DTSTAMP:20260423T105632Z
SUMMARY:Fitnessgymnastik und Aerobic
DESCRIPTION:https://keb-stadt-augsburg.de/veranstaltungen/fitnessgymnastik-
 und-aerobic_id311369
DTSTART;TZID=Europe/Berlin:20260728T200000
DTEND;TZID=Europe/Berlin:20260728T213000
LOCATION:Schulturnhalle Hochzoll Süd\, Höfatsstraße 27\, 86163 Augsburg
END:VEVENT
END:VCALENDAR
