BEGIN:VCALENDAR
VERSION:2.0
PRODID:-//Sabre//Sabre VObject 4.5.8//EN
CALSCALE:GREGORIAN
BEGIN:VEVENT
UID:sabre-vobject-5c623e87-788b-499c-af7b-9157f87bea81
DTSTAMP:20260421T053305Z
SUMMARY:Fitnessgymnastik und Aerobic
DESCRIPTION:https://keb-stadt-augsburg.de/veranstaltungen/fitnessgymnastik-
 und-aerobic_id311367
DTSTART;TZID=Europe/Berlin:20260714T200000
DTEND;TZID=Europe/Berlin:20260714T213000
LOCATION:Schulturnhalle Hochzoll Süd\, Höfatsstraße 27\, 86163 Augsburg
END:VEVENT
END:VCALENDAR
