BEGIN:VCALENDAR
VERSION:2.0
PRODID:-//Sabre//Sabre VObject 4.5.8//EN
CALSCALE:GREGORIAN
BEGIN:VEVENT
UID:sabre-vobject-8445e591-2d10-4116-bc3b-aebcbfce18aa
DTSTAMP:20260421T002653Z
SUMMARY:Fitnessgymnastik und Aerobic
DESCRIPTION:https://keb-stadt-augsburg.de/veranstaltungen/fitnessgymnastik-
 und-aerobic_id311365
DTSTART;TZID=Europe/Berlin:20260630T200000
DTEND;TZID=Europe/Berlin:20260630T213000
LOCATION:Schulturnhalle Hochzoll Süd\, Höfatsstraße 27\, 86163 Augsburg
END:VEVENT
END:VCALENDAR
