BEGIN:VCALENDAR
VERSION:2.0
PRODID:-//Sabre//Sabre VObject 4.5.8//EN
CALSCALE:GREGORIAN
BEGIN:VEVENT
UID:sabre-vobject-d9c01f20-707c-4eb8-b3ee-4d1e19d93392
DTSTAMP:20260421T183342Z
SUMMARY:Multifit für Sie und Ihn
DESCRIPTION:https://keb-stadt-augsburg.de/veranstaltungen/multifit-fuer-sie
 -und-ihn_id311270
DTSTART;TZID=Europe/Berlin:20260819T183000
DTEND;TZID=Europe/Berlin:20260819T193000
LOCATION:DJK-Sporthalle 3\, Zwölf-Apostel-Platz 3\, 86163 Augsburg
END:VEVENT
END:VCALENDAR
