BEGIN:VCALENDAR
VERSION:2.0
PRODID:-//Sabre//Sabre VObject 4.5.8//EN
CALSCALE:GREGORIAN
BEGIN:VEVENT
UID:sabre-vobject-3b07d0fb-782d-4fc1-b77f-34ba100924d0
DTSTAMP:20260421T135939Z
SUMMARY:Multifit für Sie und Ihn
DESCRIPTION:https://keb-stadt-augsburg.de/veranstaltungen/multifit-fuer-sie
 -und-ihn_id311268
DTSTART;TZID=Europe/Berlin:20260805T183000
DTEND;TZID=Europe/Berlin:20260805T193000
LOCATION:DJK-Sporthalle 3\, Zwölf-Apostel-Platz 3\, 86163 Augsburg
END:VEVENT
END:VCALENDAR
