BEGIN:VCALENDAR
VERSION:2.0
PRODID:-//Sabre//Sabre VObject 4.5.8//EN
CALSCALE:GREGORIAN
BEGIN:VEVENT
UID:sabre-vobject-378795ec-8cf2-4f93-9321-d9cdd11c615f
DTSTAMP:20260423T092135Z
SUMMARY:Multifit für Sie und Ihn
DESCRIPTION:https://keb-stadt-augsburg.de/veranstaltungen/multifit-fuer-sie
 -und-ihn_id311267
DTSTART;TZID=Europe/Berlin:20260729T183000
DTEND;TZID=Europe/Berlin:20260729T193000
LOCATION:DJK-Sporthalle 3\, Zwölf-Apostel-Platz 3\, 86163 Augsburg
END:VEVENT
END:VCALENDAR
