BEGIN:VCALENDAR
VERSION:2.0
PRODID:-//Sabre//Sabre VObject 4.5.8//EN
CALSCALE:GREGORIAN
BEGIN:VEVENT
UID:sabre-vobject-37cdabef-1123-4ac0-b0a3-eb468ca717ea
DTSTAMP:20260420T144405Z
SUMMARY:Multifit für Sie und Ihn
DESCRIPTION:https://keb-stadt-augsburg.de/veranstaltungen/multifit-fuer-sie
 -und-ihn_id311259
DTSTART;TZID=Europe/Berlin:20260603T183000
DTEND;TZID=Europe/Berlin:20260603T193000
LOCATION:DJK-Sporthalle 3\, Zwölf-Apostel-Platz 3\, 86163 Augsburg
END:VEVENT
END:VCALENDAR
