BEGIN:VCALENDAR
VERSION:2.0
PRODID:-//Sabre//Sabre VObject 4.5.8//EN
CALSCALE:GREGORIAN
BEGIN:VEVENT
UID:sabre-vobject-c2842b6b-4611-4d7a-b31f-89cb0aa21a64
DTSTAMP:20260420T024938Z
SUMMARY:Multifit für Sie und Ihn
DESCRIPTION:https://keb-stadt-augsburg.de/veranstaltungen/multifit-fuer-sie
 -und-ihn_id311255
DTSTART;TZID=Europe/Berlin:20260506T183000
DTEND;TZID=Europe/Berlin:20260506T193000
LOCATION:DJK-Sporthalle 3\, Zwölf-Apostel-Platz 3\, 86163 Augsburg
END:VEVENT
END:VCALENDAR
