BEGIN:VCALENDAR
VERSION:2.0
PRODID:-//Sabre//Sabre VObject 4.5.8//EN
CALSCALE:GREGORIAN
BEGIN:VEVENT
UID:sabre-vobject-35f452d6-7083-4bd5-a867-bf36e5923d15
DTSTAMP:20260423T163100Z
SUMMARY:AVK-/Diabetes-Gruppe
DESCRIPTION:https://keb-stadt-augsburg.de/veranstaltungen/avk-diabetes-grup
 pe_id311157
DTSTART;TZID=Europe/Berlin:20260605T170000
DTEND;TZID=Europe/Berlin:20260605T180000
LOCATION:DJK-Sporthalle 3\, Zwölf-Apostel-Platz 3\, 86163 Augsburg
END:VEVENT
END:VCALENDAR
