BEGIN:VCALENDAR
VERSION:2.0
PRODID:-//Sabre//Sabre VObject 4.5.8//EN
CALSCALE:GREGORIAN
BEGIN:VEVENT
UID:sabre-vobject-1519d1e2-b437-4cd3-a164-774b4db7f006
DTSTAMP:20260421T090156Z
SUMMARY:AVK-/Diabetes-Gruppe
DESCRIPTION:https://keb-stadt-augsburg.de/veranstaltungen/avk-diabetes-grup
 pe_id311150
DTSTART;TZID=Europe/Berlin:20260417T170000
DTEND;TZID=Europe/Berlin:20260417T180000
LOCATION:DJK-Sporthalle 3\, Zwölf-Apostel-Platz 3\, 86163 Augsburg
END:VEVENT
END:VCALENDAR
