BEGIN:VCALENDAR
VERSION:2.0
PRODID:-//Sabre//Sabre VObject 4.5.8//EN
CALSCALE:GREGORIAN
BEGIN:VEVENT
UID:sabre-vobject-2dc0e8bb-6f4d-4fc1-bd26-d496b1325430
DTSTAMP:20260421T171909Z
SUMMARY:Gymnastik bei orthopädischen Problemen - Gruppe 6
DESCRIPTION:https://keb-stadt-augsburg.de/veranstaltungen/gymnastik-bei-ort
 hopaedischen-problemen-gruppe-6_id311065
DTSTART;TZID=Europe/Berlin:20260813T110000
DTEND;TZID=Europe/Berlin:20260813T120000
LOCATION:DJK-Sporthalle 1\, Zwölf-Apostel-Platz 3\, 86163 Augsburg
END:VEVENT
END:VCALENDAR
