BEGIN:VCALENDAR
VERSION:2.0
PRODID:-//Sabre//Sabre VObject 4.5.8//EN
CALSCALE:GREGORIAN
BEGIN:VEVENT
UID:sabre-vobject-f1cb9cc9-ea75-4d79-9858-a3fbdd1ea90f
DTSTAMP:20260421T033853Z
SUMMARY:Gymnastik bei orthopädischen Problemen - Gruppe 6
DESCRIPTION:https://keb-stadt-augsburg.de/veranstaltungen/gymnastik-bei-ort
 hopaedischen-problemen-gruppe-6_id311060
DTSTART;TZID=Europe/Berlin:20260709T110000
DTEND;TZID=Europe/Berlin:20260709T120000
LOCATION:DJK-Sporthalle 1\, Zwölf-Apostel-Platz 3\, 86163 Augsburg
END:VEVENT
END:VCALENDAR
