BEGIN:VCALENDAR
VERSION:2.0
PRODID:-//Sabre//Sabre VObject 4.5.8//EN
CALSCALE:GREGORIAN
BEGIN:VEVENT
UID:sabre-vobject-bb0b64f9-b6e9-4806-b528-8ebf586d73c8
DTSTAMP:20260420T190744Z
SUMMARY:Gymnastik bei orthopädischen Problemen - Gruppe 6
DESCRIPTION:https://keb-stadt-augsburg.de/veranstaltungen/gymnastik-bei-ort
 hopaedischen-problemen-gruppe-6_id311057
DTSTART;TZID=Europe/Berlin:20260618T110000
DTEND;TZID=Europe/Berlin:20260618T120000
LOCATION:DJK-Sporthalle 1\, Zwölf-Apostel-Platz 3\, 86163 Augsburg
END:VEVENT
END:VCALENDAR
