BEGIN:VCALENDAR
VERSION:2.0
PRODID:-//Sabre//Sabre VObject 4.5.8//EN
CALSCALE:GREGORIAN
BEGIN:VEVENT
UID:sabre-vobject-374d4c07-d878-4bae-9830-ec0fe02b10a0
DTSTAMP:20260420T112950Z
SUMMARY:Gymnastik bei orthopädischen Problemen - Gruppe 6
DESCRIPTION:https://keb-stadt-augsburg.de/veranstaltungen/gymnastik-bei-ort
 hopaedischen-problemen-gruppe-6_id311053
DTSTART;TZID=Europe/Berlin:20260521T110000
DTEND;TZID=Europe/Berlin:20260521T120000
LOCATION:DJK-Sporthalle 1\, Zwölf-Apostel-Platz 3\, 86163 Augsburg
END:VEVENT
END:VCALENDAR
