BEGIN:VCALENDAR
VERSION:2.0
PRODID:-//Sabre//Sabre VObject 4.5.8//EN
CALSCALE:GREGORIAN
BEGIN:VEVENT
UID:sabre-vobject-5d182b21-ff93-4288-94af-190333bb96ae
DTSTAMP:20260419T214043Z
SUMMARY:Gymnastik bei orthopädischen Problemen - Gruppe 6
DESCRIPTION:https://keb-stadt-augsburg.de/veranstaltungen/gymnastik-bei-ort
 hopaedischen-problemen-gruppe-6_id311049
DTSTART;TZID=Europe/Berlin:20260423T110000
DTEND;TZID=Europe/Berlin:20260423T120000
LOCATION:DJK-Sporthalle 1\, Zwölf-Apostel-Platz 3\, 86163 Augsburg
END:VEVENT
END:VCALENDAR
