BEGIN:VCALENDAR
VERSION:2.0
PRODID:-//Sabre//Sabre VObject 4.5.8//EN
CALSCALE:GREGORIAN
BEGIN:VEVENT
UID:sabre-vobject-5cbcd3e5-9be8-4bcc-9ffe-293a3fdb157a
DTSTAMP:20260422T041322Z
SUMMARY:Gymnastik bei orthopädischen Problemen - Gruppe 4
DESCRIPTION:https://keb-stadt-augsburg.de/veranstaltungen/gymnastik-bei-ort
 hopaedischen-problemen-gruppe-4_id311017
DTSTART;TZID=Europe/Berlin:20260915T180000
DTEND;TZID=Europe/Berlin:20260915T190000
LOCATION:Schulturnhalle Hochzoll Süd\, Höfatsstraße 27\, 86163 Augsburg
END:VEVENT
END:VCALENDAR
